BEGIN:VCALENDAR
VERSION:2.0
PRODID:spatie/icalendar-generator
DESCRIPTION:Events from Media Friends Meeting
X-WR-CALDESC:Events from Media Friends Meeting
REFRESH-INTERVAL;VALUE=DURATION:PT1440M
X-PUBLISHED-TTL:PT1440M
BEGIN:VTIMEZONE
TZID:Etc/GMT+0
BEGIN:STANDARD
DTSTART:20250705T094000Z
TZOFFSETFROM:+0000
TZOFFSETTO:+0000
END:STANDARD
END:VTIMEZONE
BEGIN:VTIMEZONE
TZID:UTC
BEGIN:STANDARD
DTSTART:20250728T131254Z
TZOFFSETFROM:+0000
TZOFFSETTO:+0000
END:STANDARD
END:VTIMEZONE
BEGIN:VEVENT
UID:4450-211
DTSTAMP:20260424T131254Z
SUMMARY:Media Providence Friends School Meeting
LOCATION:
ORGANIZER;CN=admin:MAILTO:jeff.busa@earthlink.net
RRULE:FREQ=WEEKLY;UNTIL=20301231T000000Z
DTSTART;TZID=Etc/GMT+0:20260401T094000
DTEND;TZID=Etc/GMT+0:20260401T100000
X-ALT-DESC;FMTTYPE=TEXT/HTML:
CATEGORIES:MPFS
URL;VALUE=URI:https://mediafriendsmeeting.org/mc-events/media-providence-fr
 iends-school-meeting?mc_id=4450
METHOD:PUBLISH
END:VEVENT
BEGIN:VEVENT
UID:5583-288
DTSTAMP:20260424T131254Z
SUMMARY:Weekly Interdenominational New Sanctuary Movement Demonstration @  
 ICE Office - 8th and Cherry Street\, Philadelphia
LOCATION:
ORGANIZER;CN=admin:MAILTO:jeff.busa@earthlink.net
RRULE:FREQ=WEEKLY;UNTIL=20261231T000000Z
DTSTART;TZID=Etc/GMT+0:20260401T120000
DTEND;TZID=Etc/GMT+0:20260401T130000
X-ALT-DESC;FMTTYPE=TEXT/HTML:
CATEGORIES:Community Event
URL;VALUE=URI:https://mediafriendsmeeting.org/mc-events/weekly-interdenomin
 ational-new-sanctuary-movement-demonstration-ice-office-8th-and-cherry-str
 eet-philadelphia-2?mc_id=5583
METHOD:PUBLISH
END:VEVENT
BEGIN:VEVENT
UID:4729-232
DTSTAMP:20260424T131254Z
SUMMARY:Yoga
LOCATION:
ORGANIZER;CN=admin:MAILTO:jeff.busa@earthlink.net
RRULE:FREQ=WEEKLY;UNTIL=20260729T000000Z
DTSTART;TZID=Etc/GMT+0:20260401T180000
DTEND;TZID=Etc/GMT+0:20260401T200000
X-ALT-DESC;FMTTYPE=TEXT/HTML:A community event - with a Meeting member open
 ing\, in-house during event\, and closing.
CATEGORIES:Community Event
URL;VALUE=URI:https://mediafriendsmeeting.org/mc-events/yoga?mc_id=4729
METHOD:PUBLISH
END:VEVENT
BEGIN:VEVENT
UID:4763-233
DTSTAMP:20260424T131254Z
SUMMARY:Meals for the Life Center - 3:30 pm to 4:00 pm
LOCATION:
ORGANIZER;CN=admin:MAILTO:jeff.busa@earthlink.net
RRULE:FREQ=MONTHLY;BYDAY=1SA;UNTIL=20260831T000000Z
DTSTART;TZID=Etc/GMT+0;VALUE=DATE:20260404
DTEND;TZID=Etc/GMT+0;VALUE=DATE:20260405
X-ALT-DESC;FMTTYPE=TEXT/HTML:
CATEGORIES:Media Friends Meeting (other activities)
URL;VALUE=URI:https://mediafriendsmeeting.org/mc-events/meals-for-the-life-
 center-330-pm-to-400-pm?mc_id=4763
METHOD:PUBLISH
END:VEVENT
BEGIN:VEVENT
UID:5504-286
DTSTAMP:20260424T131254Z
SUMMARY:\"No Kings\" weekly demonstration near Springfield Mall - corner of
  Baltimore Pike and Rt 320
LOCATION:
ORGANIZER;CN=admin:MAILTO:jeff.busa@earthlink.net
RRULE:FREQ=WEEKLY;UNTIL=20261231T000000Z
DTSTART;TZID=Etc/GMT+0:20260404T130000
DTEND;TZID=Etc/GMT+0:20260404T140000
X-ALT-DESC;FMTTYPE=TEXT/HTML:
CATEGORIES:Community Event
URL;VALUE=URI:https://mediafriendsmeeting.org/mc-events/no-kings-weekly-dem
 onstration-near-springfield-mall-corner-of-baltimore-pike-and-rt-320?mc_id
 =5504
METHOD:PUBLISH
END:VEVENT
BEGIN:VEVENT
UID:4770-236
DTSTAMP:20260424T131254Z
SUMMARY:Easter
LOCATION:
ORGANIZER;CN=admin:MAILTO:jeff.busa@earthlink.net
DTSTART;TZID=Etc/GMT+0;VALUE=DATE:20260405
DTEND;TZID=Etc/GMT+0;VALUE=DATE:20260406
X-ALT-DESC;FMTTYPE=TEXT/HTML:
CATEGORIES:Media Friends Meeting (other activities)
URL;VALUE=URI:https://mediafriendsmeeting.org/mc-events/easter
METHOD:PUBLISH
END:VEVENT
BEGIN:VEVENT
UID:3570-209
DTSTAMP:20260424T131254Z
SUMMARY:Meeting for Worship
LOCATION:
ORGANIZER;CN=admin:MAILTO:jeff.busa@earthlink.net
RRULE:FREQ=WEEKLY;UNTIL=20301231T000000Z
DTSTART;TZID=Etc/GMT+0:20260405T100000
DTEND;TZID=Etc/GMT+0:20260405T110000
X-ALT-DESC;FMTTYPE=TEXT/HTML:
CATEGORIES:Media Friends Meeting - Quaker Meetings
URL;VALUE=URI:https://mediafriendsmeeting.org/mc-events/meeting-for-worship
 -6?mc_id=3570
METHOD:PUBLISH
END:VEVENT
BEGIN:VEVENT
UID:2953-203
DTSTAMP:20260424T131254Z
SUMMARY:Refreshments and Conversations
LOCATION:
ORGANIZER;CN=admin:MAILTO:jeff.busa@earthlink.net
RRULE:FREQ=WEEKLY;UNTIL=20301231T000000Z
DTSTART;TZID=Etc/GMT+0:20260405T111500
DTEND;TZID=Etc/GMT+0:20260405T113000
X-ALT-DESC;FMTTYPE=TEXT/HTML:
CATEGORIES:Media Friends Meeting (other activities)
URL;VALUE=URI:https://mediafriendsmeeting.org/mc-events/refreshments-and-co
 nversations?mc_id=2953
METHOD:PUBLISH
END:VEVENT
BEGIN:VEVENT
UID:5470-269
DTSTAMP:20260424T131254Z
SUMMARY:Pendle Hill - First Monday Lecture
LOCATION:
ORGANIZER;CN=admin:MAILTO:jeff.busa@earthlink.net
RRULE:FREQ=MONTHLY;BYDAY=1MO;UNTIL=20280131T000000Z
DTSTART;TZID=Etc/GMT+0:20260406T190000
DTEND;TZID=Etc/GMT+0:20260406T200000
X-ALT-DESC;FMTTYPE=TEXT/HTML:
CATEGORIES:Pendle Hill Events
URL;VALUE=URI:https://mediafriendsmeeting.org/mc-events/pendle-hill-first-m
 onday-lecture-2?mc_id=5470
METHOD:PUBLISH
END:VEVENT
BEGIN:VEVENT
UID:5629-289
DTSTAMP:20260424T131254Z
SUMMARY:Weekly \"Honk and Wave\" Demonstration in Landsdowne (often attende
 d by members of Landsdowne Friends Meeting) - corner of Baltimore Pike and
  Landsdowne Ave
LOCATION:
ORGANIZER;CN=admin:MAILTO:jeff.busa@earthlink.net
RRULE:FREQ=WEEKLY;UNTIL=20260409T000000Z
DTSTART;TZID=Etc/GMT+0:20260407T120000
DTEND;TZID=Etc/GMT+0:20260407T130000
X-ALT-DESC;FMTTYPE=TEXT/HTML:
CATEGORIES:Community Event
URL;VALUE=URI:https://mediafriendsmeeting.org/mc-events/weekly-honk-and-wav
 e-demonstration-in-landsdowne-often-attended-by-members-of-landsdowne-frie
 nds-meeting-corner-of-baltimore-pike-and-landsdowne-ave?mc_id=5629
METHOD:PUBLISH
END:VEVENT
BEGIN:VEVENT
UID:5344-255
DTSTAMP:20260424T131254Z
SUMMARY:Friendly Bible Study on ZOOM
LOCATION:
ORGANIZER;CN=admin:MAILTO:jeff.busa@earthlink.net
RRULE:FREQ=WEEKLY;UNTIL=20270101T000000Z
DTSTART;TZID=Etc/GMT+0:20260407T193000
DTEND;TZID=Etc/GMT+0:20260407T210000
X-ALT-DESC;FMTTYPE=TEXT/HTML:
CATEGORIES:Media Friends Meeting (other activities)
URL;VALUE=URI:https://mediafriendsmeeting.org/mc-events/friendly-bible-stud
 y-on-zoom?mc_id=5344
METHOD:PUBLISH
END:VEVENT
BEGIN:VEVENT
UID:5436-259
DTSTAMP:20260424T131254Z
SUMMARY:Zoom in use by Meeting member
LOCATION:
ORGANIZER;CN=admin:MAILTO:jeff.busa@earthlink.net
RRULE:FREQ=MONTHLY;BYDAY=2TH;UNTIL=20270101T000000Z
DTSTART;TZID=Etc/GMT+0:20260409T190000
DTEND;TZID=Etc/GMT+0:20260409T203000
X-ALT-DESC;FMTTYPE=TEXT/HTML:
CATEGORIES:Media Friends Meeting (other activities)
URL;VALUE=URI:https://mediafriendsmeeting.org/mc-events/zoom-in-use-by-meet
 ing-member?mc_id=5436
METHOD:PUBLISH
END:VEVENT
BEGIN:VEVENT
UID:5633-293
DTSTAMP:20260424T131254Z
SUMMARY:Start of 2nd \"We Are America March\" (WAAM) - going from Philly to
  Washington DC
LOCATION:
ORGANIZER;CN=admin:MAILTO:jeff.busa@earthlink.net
DTSTART;TZID=Etc/GMT+0:20260411T090000
DTEND;TZID=Etc/GMT+0:20260411T180000
X-ALT-DESC;FMTTYPE=TEXT/HTML:Rally at Independence Mall at 9 am\; march beg
 ins at 10:30. Lunch at Clark Park. Day ends at Swarthmore Friends Meetingh
 ouse for pot-luck dinner and additional speakers.
CATEGORIES:Community Event
URL;VALUE=URI:https://mediafriendsmeeting.org/mc-events/start-of-2nd-we-are
 -america-march-waam-going-from-philly-to-washington-dc
METHOD:PUBLISH
END:VEVENT
BEGIN:VEVENT
UID:3276-205
DTSTAMP:20260424T131254Z
SUMMARY:Quaker Religious Education
LOCATION:
ORGANIZER;CN=admin:MAILTO:jeff.busa@earthlink.net
RRULE:FREQ=MONTHLY;BYDAY=2SU;UNTIL=20301231T000000Z
DTSTART;TZID=Etc/GMT+0:20260412T113000
DTEND;TZID=Etc/GMT+0:20260412T120000
X-ALT-DESC;FMTTYPE=TEXT/HTML:
CATEGORIES:Media Friends Meeting (other activities)
URL;VALUE=URI:https://mediafriendsmeeting.org/mc-events/quaker-religious-ed
 ucation?mc_id=3276
METHOD:PUBLISH
END:VEVENT
BEGIN:VEVENT
UID:5464-267
DTSTAMP:20260424T131254Z
SUMMARY:Quaker Religious Education (QRE): Faith and Play with GJ - parable 
 of the Good Samaritan
LOCATION:
ORGANIZER;CN=admin:MAILTO:jeff.busa@earthlink.net
DTSTART;TZID=Etc/GMT+0:20260412T113000
DTEND;TZID=Etc/GMT+0:20260412T123000
X-ALT-DESC;FMTTYPE=TEXT/HTML:
CATEGORIES:Media Friends Meeting (other activities)
URL;VALUE=URI:https://mediafriendsmeeting.org/mc-events/quaker-religious-ed
 ucation-qre-faith-and-play-with-gj-parable-of-the-good-samaritan
METHOD:PUBLISH
END:VEVENT
BEGIN:VEVENT
UID:5451-260
DTSTAMP:20260424T131254Z
SUMMARY:Outreach Committee - on ZOOM
LOCATION:
ORGANIZER;CN=admin:MAILTO:jeff.busa@earthlink.net
RRULE:FREQ=MONTHLY;BYDAY=3TH;UNTIL=20270101T000000Z
DTSTART;TZID=Etc/GMT+0:20260416T190000
DTEND;TZID=Etc/GMT+0:20260416T203000
X-ALT-DESC;FMTTYPE=TEXT/HTML:
CATEGORIES:Media Friends Meeting (other activities)
URL;VALUE=URI:https://mediafriendsmeeting.org/mc-events/outreach-committee-
 on-zoom?mc_id=5451
METHOD:PUBLISH
END:VEVENT
BEGIN:VEVENT
UID:3342-274
DTSTAMP:20260424T131254Z
SUMMARY:Worship Sharing - \"Family\" (Charles Randall)
LOCATION:
ORGANIZER;CN=admin:MAILTO:jeff.busa@earthlink.net
DTSTART;TZID=Etc/GMT+0:20260419T113000
DTEND;TZID=Etc/GMT+0:20260419T120000
X-ALT-DESC;FMTTYPE=TEXT/HTML:
CATEGORIES:Media Friends Meeting - Quaker Meetings
URL;VALUE=URI:https://mediafriendsmeeting.org/mc-events/worship-sharing-fam
 ily-charles-randall
METHOD:PUBLISH
END:VEVENT
BEGIN:VEVENT
UID:5632-292
DTSTAMP:20260424T131254Z
SUMMARY:Grow Circle Meeting
LOCATION:
ORGANIZER;CN=admin:MAILTO:jeff.busa@earthlink.net
DTSTART;TZID=Etc/GMT+0:20260423T191500
DTEND;TZID=Etc/GMT+0:20260423T211500
X-ALT-DESC;FMTTYPE=TEXT/HTML:
CATEGORIES:Media Friends Meeting (other activities)
URL;VALUE=URI:https://mediafriendsmeeting.org/mc-events/grow-circle-meeting
METHOD:PUBLISH
END:VEVENT
BEGIN:VEVENT
UID:4393-221
DTSTAMP:20260424T131254Z
SUMMARY:Chester Quarterly Meeting @ Media Friends Meeting - 10 AM - 3 PM
LOCATION:
ORGANIZER;CN=admin:MAILTO:jeff.busa@earthlink.net
DTSTART;TZID=Etc/GMT+0:20260426T100000
DTEND;TZID=Etc/GMT+0:20260426T140000
X-ALT-DESC;FMTTYPE=TEXT/HTML:@ Media Monthly Meeting 10:00am - Meeting 11:3
 0am - Singing 12:00pm - Pot Luck Lunch 12:30pm - Quarterly Meeting for Bus
 iness
CATEGORIES:Quarterly and Yearly Meeting Events
URL;VALUE=URI:https://mediafriendsmeeting.org/mc-events/chester-quarterly-m
 eeting-media-friends-meeting-10-am-3-pm
METHOD:PUBLISH
END:VEVENT
BEGIN:VEVENT
UID:3408-207
DTSTAMP:20260424T131254Z
SUMMARY:Potluck Lunch
LOCATION:
ORGANIZER;CN=admin:MAILTO:jeff.busa@earthlink.net
RRULE:FREQ=MONTHLY;BYDAY=4SU;UNTIL=20301231T000000Z
DTSTART;TZID=Etc/GMT+0:20260426T113000
DTEND;TZID=Etc/GMT+0:20260426T120000
X-ALT-DESC;FMTTYPE=TEXT/HTML:
CATEGORIES:Media Friends Meeting (other activities)
URL;VALUE=URI:https://mediafriendsmeeting.org/mc-events/potluck-lunch?mc_id
 =3408
METHOD:PUBLISH
END:VEVENT
BEGIN:VEVENT
UID:3474-208
DTSTAMP:20260424T131254Z
SUMMARY:Prayer Blanket Ministry
LOCATION:
ORGANIZER;CN=admin:MAILTO:jeff.busa@earthlink.net
RRULE:FREQ=MONTHLY;BYDAY=4SU;UNTIL=20301231T000000Z
DTSTART;TZID=Etc/GMT+0:20260426T120000
DTEND;TZID=Etc/GMT+0:20260426T140000
X-ALT-DESC;FMTTYPE=TEXT/HTML:
CATEGORIES:Media Friends Meeting - Quaker Meetings
URL;VALUE=URI:https://mediafriendsmeeting.org/mc-events/prayer-blanket-mini
 stry?mc_id=3474
METHOD:PUBLISH
END:VEVENT
END:VCALENDAR